BEGIN:VCALENDAR
VERSION:2.0
PRODID:-//K95.3 - ECPv5.6.0//NONSGML v1.0//EN
CALSCALE:GREGORIAN
METHOD:PUBLISH
X-WR-CALNAME:K95.3
X-ORIGINAL-URL:https://www.k95country.com
X-WR-CALDESC:Events for K95.3
BEGIN:VTIMEZONE
TZID:America/New_York
BEGIN:DAYLIGHT
TZOFFSETFROM:-0500
TZOFFSETTO:-0400
TZNAME:EDT
DTSTART:20250309T070000
END:DAYLIGHT
BEGIN:STANDARD
TZOFFSETFROM:-0400
TZOFFSETTO:-0500
TZNAME:EST
DTSTART:20251102T060000
END:STANDARD
END:VTIMEZONE
BEGIN:VEVENT
DTSTART;TZID=America/New_York:20250614T080000
DTEND;TZID=America/New_York:20250614T130000
DTSTAMP:20260424T181234
CREATED:20250610T154559Z
LAST-MODIFIED:20250610T154559Z
UID:84400-1749888000-1749906000@www.k95country.com
SUMMARY:Wild Horse Adoption Event in Doswell
DESCRIPTION:The Bureau of Land Management will host a wild horse and burro placement event\, offering a limited number of excess animals gathered from western rangelands\, June 13-14\, 2025\, at the Meadow Event Park in Doswell\, Virginia. \n\n\nApproximately 60 animals are expected to be available for adoption at the event\, which will be open to the public June 13 from 8:00 a.m. to 4:30 p.m.\, and June 14 8:00 a.m. to 1:00 p.m.  The event will host a live auction beginning at 11:00 a.m. on June 13\, followed by first come first serve adoptions.
URL:https://www.k95country.com/event/wild-horse-adoption-event-in-doswell/2025-06-14/
LOCATION:The Meadow Event Park\, 13191 Dawn Blvd\, Doswell\, VA\, United States
CATEGORIES:Event
ATTACH;FMTTYPE=application/pdf:https://dehayf5mhw1h7.cloudfront.net/wp-content/uploads/sites/1869/2025/06/10114502/doswell-2025-flyer.pdf
GEO:37.8522241;-77.4192859
X-APPLE-STRUCTURED-LOCATION;VALUE=URI;X-ADDRESS=The Meadow Event Park 13191 Dawn Blvd Doswell VA United States;X-APPLE-RADIUS=500;X-TITLE=13191 Dawn Blvd:geo:-77.4192859,37.8522241
END:VEVENT
BEGIN:VEVENT
DTSTART;TZID=America/New_York:20250613T080000
DTEND;TZID=America/New_York:20250613T163000
DTSTAMP:20260424T181234
CREATED:20250610T154559Z
LAST-MODIFIED:20250610T154559Z
UID:84398-1749801600-1749832200@www.k95country.com
SUMMARY:Wild Horse Adoption Event in Doswell
DESCRIPTION:The Bureau of Land Management will host a wild horse and burro placement event\, offering a limited number of excess animals gathered from western rangelands\, June 13-14\, 2025\, at the Meadow Event Park in Doswell\, Virginia. \n\n\nApproximately 60 animals are expected to be available for adoption at the event\, which will be open to the public June 13 from 8:00 a.m. to 4:30 p.m.\, and June 14 8:00 a.m. to 1:00 p.m.  The event will host a live auction beginning at 11:00 a.m. on June 13\, followed by first come first serve adoptions.
URL:https://www.k95country.com/event/wild-horse-adoption-event-in-doswell/
LOCATION:The Meadow Event Park\, 13191 Dawn Blvd\, Doswell\, VA\, United States
CATEGORIES:Event
ATTACH;FMTTYPE=application/pdf:https://dehayf5mhw1h7.cloudfront.net/wp-content/uploads/sites/1869/2025/06/10114502/doswell-2025-flyer.pdf
GEO:37.8522241;-77.4192859
X-APPLE-STRUCTURED-LOCATION;VALUE=URI;X-ADDRESS=The Meadow Event Park 13191 Dawn Blvd Doswell VA United States;X-APPLE-RADIUS=500;X-TITLE=13191 Dawn Blvd:geo:-77.4192859,37.8522241
END:VEVENT
END:VCALENDAR